0.0145454545454545
0.000000
0.000000
-0.0145454545454545
-121.158365589489
44.7327289511941
