0.0145454545454545
0.000000
0.000000
-0.0145454545454545
-86.0583671153675
34.4767265250466
