0.0145454545454545
0.000000
0.000000
-0.0145454545454545
-117.217363697399
41.5837268759988
