0.0145454545454545
0.000000
0.000000
-0.0145454545454545
-99.4353660167347
33.4647273947976
