0.0145454545454545
0.000000
0.000000
-0.0145454545454545
-103.332361561168
38.354726784446
