0.0145454545454545
0.000000
0.000000
-0.0145454545454545
-90.2773612559925
34.5567264487527
