0.0145454545454545
0.000000
0.000000
-0.0145454545454545
-98.6203635753285
42.8027286460183
