0.0145454545454545
0.000000
0.000000
-0.0145454545454545
-94.9373649181019
45.604726784446
