0.0145454545454545
0.000000
0.000000
-0.0145454545454545
-125.964365345348
43.4857273032449
