0.008406399813565
0.000000000000000
0.000000000000000
-0.008406399813565
-95.493714668967499
33.462557435469208
