0.008569779829545
0.000000000000000
0.000000000000000
-0.008569779829545
-119.607649425160010
35.271403281471898
