0.008533186479048
0.000000000000000
0.000000000000000
-0.008533186479048
-88.345690266002293
34.879358437278100
