0.008536598899148
0.000000000000000
0.000000000000000
-0.008536598899148
-99.859712774103286
34.916298259388299
