0.008613198020241
0.000000000000000
0.000000000000000
-0.008613198020241
-87.145654699152203
35.727321818958600
