0.00970952814275568
0.000000
0.000000
-0.00970952814275568
-78.8930042891069
44.8662656888095
