0.0145454545454545
0.000000
0.000000
-0.0145454545454545
-92.5963615001332
34.6717281272195
