0.0145454545454545
0.000000
0.000000
-0.0145454545454545
-106.170366627086
37.6467266013406
