0.0145454545454545
0.000000
0.000000
-0.0145454545454545
-90.0563605846058
45.3517284323952
