0.014545454545455
0.000000000000000
0.000000000000000
-0.014545454545455
-99.920366627086295
40.167726509787798
