0.0145454545454545
0.000000
0.000000
-0.0145454545454545
-90.6363624156605
43.7007274558327
