0.0145454545454545
0.000000
0.000000
-0.0145454545454545
-74.6133674205433
47.8837261130593
