0.014545454545455
0.000000000000000
0.000000000000000
-0.014545454545455
-92.685366016734704
37.889726631858103
