0.0145454545454545
0.000000
0.000000
-0.0145454545454545
-86.5763648570668
38.8757266928933
