0.0145454545454545
0.000000
0.000000
-0.0145454545454545
-101.659365040172
36.5657291342995
