0.0145454545454545
0.000000
0.000000
-0.0145454545454545
-102.384363514293
33.6967277457497
