0.0145454545454545
0.000000
0.000000
-0.0145454545454545
-78.7673667491566
43.9397258689187
