0.0145454545454545
0.000000
0.000000
-0.0145454545454545
-104.3243659557
41.7537288596413
