0.0145454545454545
0.000000
0.000000
-0.0145454545454545
-91.12636027943
37.164728157737
