0.0145454545454545
0.000000
0.000000
-0.0145454545454545
-111.179361683239
39.1427287986062
