0.017971305190311
0.000000000000000
0.000000000000000
-0.017971305190311
-104.61710488027734
49.957343737543269
