0.017971305190311
0.000000000000000
0.000000000000000
-0.017971305190311
-107.4925137107271
38.725277993598894
