0.017971305190311
0.000000000000000
0.000000000000000
-0.017971305190311
-97.42858280415294
38.725277993598894
