0.017971305190311
0.000000000000000
0.000000000000000
-0.017971305190311
-116.11874020207638
49.957343737543269
