0.015680116966933
0.000000000000000
0.000000000000000
-0.015680116966933
-162.209677673567430
24.393984105084186
