0.017971305190311
0.000000000000000
0.000000000000000
-0.017971305190311
-92.03719124705964
49.238491529930829
