9027.866157748872900
0.000000000000000
0.000000000000000
-9027.866157748871000
-19531274.761224005000000
11591534.305893503000000
